{
 "currentVersion": 10.91,
 "cimVersion": "2.9.0",
 "serviceDescription": "",
 "mapName": "Map",
 "description": "",
 "copyrightText": "",
 "supportsDynamicLayers": false,
 "layers": [
  {
   "id": 0,
   "name": "OB",
   "parentLayerId": -1,
   "defaultVisibility": true,
   "subLayerIds": null,
   "minScale": 0,
   "maxScale": 0,
   "type": "Feature Layer",
   "geometryType": "esriGeometryPolygon",
   "supportsDynamicLegends": true
  }
 ],
 "tables": [],
 "spatialReference": {
  "wkid": 3794,
  "latestWkid": 3794,
  "xyTolerance": 0.001,
  "zTolerance": 0.001,
  "mTolerance": 0.001,
  "falseX": -5122600,
  "falseY": -15001100,
  "xyUnits": 10000,
  "falseZ": -100000,
  "zUnits": 10000,
  "falseM": -100000,
  "mUnits": 10000
 },
 "singleFusedMapCache": true,
 "tileInfo": {
  "rows": 256,
  "cols": 256,
  "dpi": 96,
  "format": "PNG",
  "compressionQuality": 0,
  "origin": {
   "x": -5122600,
   "y": 5001100
  },
  "spatialReference": {
   "wkid": 3794,
   "latestWkid": 3794,
   "xyTolerance": 0.001,
   "zTolerance": 0.001,
   "mTolerance": 0.001,
   "falseX": -5122600,
   "falseY": -15001100,
   "xyUnits": 10000,
   "falseZ": -100000,
   "zUnits": 10000,
   "falseM": -100000,
   "mUnits": 10000
  },
  "lods": [
   {
    "level": 0,
    "resolution": 1322.9193125052918,
    "scale": 5000000
   },
   {
    "level": 1,
    "resolution": 529.1677250021168,
    "scale": 2000000
   },
   {
    "level": 2,
    "resolution": 396.87579375158754,
    "scale": 1500000
   },
   {
    "level": 3,
    "resolution": 330.72982812632296,
    "scale": 1250000
   },
   {
    "level": 4,
    "resolution": 264.5838625010584,
    "scale": 1000000
   },
   {
    "level": 5,
    "resolution": 198.43789687579377,
    "scale": 750000
   },
   {
    "level": 6,
    "resolution": 132.2919312505292,
    "scale": 500000
   },
   {
    "level": 7,
    "resolution": 92.60435187537043,
    "scale": 350000
   },
   {
    "level": 8,
    "resolution": 66.1459656252646,
    "scale": 250000
   },
   {
    "level": 9,
    "resolution": 39.687579375158755,
    "scale": 150000
   },
   {
    "level": 10,
    "resolution": 26.458386250105836,
    "scale": 100000
   },
   {
    "level": 11,
    "resolution": 19.843789687579378,
    "scale": 75000
   },
   {
    "level": 12,
    "resolution": 13.229193125052918,
    "scale": 50000
   },
   {
    "level": 13,
    "resolution": 6.614596562526459,
    "scale": 25000
   },
   {
    "level": 14,
    "resolution": 3.9687579375158752,
    "scale": 15000
   },
   {
    "level": 15,
    "resolution": 2.6458386250105836,
    "scale": 10000
   },
   {
    "level": 16,
    "resolution": 1.9843789687579376,
    "scale": 7500
   },
   {
    "level": 17,
    "resolution": 1.3229193125052918,
    "scale": 5000
   },
   {
    "level": 18,
    "resolution": 0.6614596562526459,
    "scale": 2500
   },
   {
    "level": 19,
    "resolution": 0.26458386250105836,
    "scale": 1000
   },
   {
    "level": 20,
    "resolution": 0.13229193125052918,
    "scale": 500
   },
   {
    "level": 21,
    "resolution": 0.06614596562526459,
    "scale": 250
   },
   {
    "level": 22,
    "resolution": 0.026458386250105836,
    "scale": 100
   }
  ]
 },
 "storageInfo": {
  "storageFormat": "esriMapCacheStorageModeCompactV2",
  "packetSize": 128
 },
 "initialExtent": {
  "xmin": 450993.7866489924,
  "ymin": 88293.07790048882,
  "xmax": 482109.57834586134,
  "ymax": 116683.0926966887,
  "spatialReference": {
   "wkid": 3794,
   "latestWkid": 3794,
   "xyTolerance": 0.001,
   "zTolerance": 0.001,
   "mTolerance": 0.001,
   "falseX": -5122600,
   "falseY": -15001100,
   "xyUnits": 10000,
   "falseZ": -100000,
   "zUnits": 10000,
   "falseM": -100000,
   "mUnits": 10000
  }
 },
 "fullExtent": {
  "xmin": 453949.99841249734,
  "ymin": 92000.4661783902,
  "xmax": 481999.57626408956,
  "ymax": 112000.80778159387,
  "spatialReference": {
   "wkid": 3794,
   "latestWkid": 3794,
   "xyTolerance": 0.001,
   "zTolerance": 0.001,
   "mTolerance": 0.001,
   "falseX": -5122600,
   "falseY": -15001100,
   "xyUnits": 10000,
   "falseZ": -100000,
   "zUnits": 10000,
   "falseM": -100000,
   "mUnits": 10000
  }
 },
 "datesInUnknownTimezone": false,
 "minScale": 150000,
 "maxScale": 5000,
 "units": "esriMeters",
 "supportedImageFormatTypes": "PNG32,PNG24,PNG,JPG,DIB,TIFF,EMF,PS,PDF,GIF,SVG,SVGZ,BMP",
 "documentInfo": {
  "Title": "Map",
  "Author": "",
  "Comments": "",
  "Subject": "",
  "Category": "",
  "AntialiasingMode": "None",
  "TextAntialiasingMode": "Force",
  "Version": "2.9.0",
  "Keywords": ""
 },
 "supportsQueryDomains": true,
 "capabilities": "Map,Query,Data",
 "supportedQueryFormats": "JSON, geoJSON, PBF",
 "exportTilesAllowed": false,
 "referenceScale": 0.0,
 "datumTransformations": [
  {
   "geoTransforms": [
    {
     "wkt": "GEOGTRAN[\"WGS_1984_Major_Auxiliary_Sphere_To_WGS_1984\",GEOGCS[\"GCS_WGS_1984\",DATUM[\"D_WGS_1984\",SPHEROID[\"WGS_1984\",6378137.0,298.257223563]],PRIMEM[\"Greenwich\",0.0],UNIT[\"Degree\",0.0174532925199433]],GEOGCS[\"GCS_Slovenia_1996\",DATUM[\"D_Slovenia_Geodetic_Datum_1996\",SPHEROID[\"GRS_1980\",6378137.0,298.257222101]],PRIMEM[\"Greenwich\",0.0],UNIT[\"Degree\",0.0174532925199433]],METHOD[\"Null\"]]",
     "transformForward": true,
     "name": "WGS_1984_Major_Auxiliary_Sphere_To_WGS_1984"
    }
   ]
  },
  {
   "geoTransforms": [
    {
     "wkt": "GEOGTRAN[\"WGS_1984_Major_Auxiliary_Sphere_To_WGS_1984\",GEOGCS[\"GCS_WGS_1984\",DATUM[\"D_WGS_1984\",SPHEROID[\"WGS_1984\",6378137.0,298.257223563]],PRIMEM[\"Greenwich\",0.0],UNIT[\"Degree\",0.0174532925199433]],GEOGCS[\"GCS_Slovenia_1996\",DATUM[\"D_Slovenia_Geodetic_Datum_1996\",SPHEROID[\"GRS_1980\",6378137.0,298.257222101]],PRIMEM[\"Greenwich\",0.0],UNIT[\"Degree\",0.0174532925199433]],METHOD[\"Null\"]]",
     "transformForward": false,
     "name": "WGS_1984_Major_Auxiliary_Sphere_To_WGS_1984"
    }
   ]
  },
  {
   "geoTransforms": [
    {
     "wkt": "GEOGTRAN[\"D48_To_D96_3tra_NTv2\",GEOGCS[\"GCS_D48\",DATUM[\"D_D48\",SPHEROID[\"Bessel_1841\",6377397.155,299.1528128]],PRIMEM[\"Greenwich\",0.0],UNIT[\"Degree\",0.0174532925199433]],GEOGCS[\"GCS_Slovenia_1996\",DATUM[\"D_Slovenia_Geodetic_Datum_1996\",SPHEROID[\"GRS_1980\",6378137.0,298.257222101]],PRIMEM[\"Greenwich\",0.0],UNIT[\"Degree\",0.0174532925199433]],METHOD[\"NTv2\"],PARAMETER[\"Dataset_slovenia/SI_D48_D96_GRID\",0.0],OPERATIONACCURACY[0.11]]",
     "transformForward": true,
     "name": "D48_To_D96_3tra_NTv2"
    }
   ]
  },
  {
   "geoTransforms": [
    {
     "wkt": "GEOGTRAN[\"D48_To_D96_3tra_NTv2\",GEOGCS[\"GCS_D48\",DATUM[\"D_D48\",SPHEROID[\"Bessel_1841\",6377397.155,299.1528128]],PRIMEM[\"Greenwich\",0.0],UNIT[\"Degree\",0.0174532925199433]],GEOGCS[\"GCS_Slovenia_1996\",DATUM[\"D_Slovenia_Geodetic_Datum_1996\",SPHEROID[\"GRS_1980\",6378137.0,298.257222101]],PRIMEM[\"Greenwich\",0.0],UNIT[\"Degree\",0.0174532925199433]],METHOD[\"NTv2\"],PARAMETER[\"Dataset_slovenia/SI_D48_D96_GRID\",0.0],OPERATIONACCURACY[0.11]]",
     "transformForward": false,
     "name": "D48_To_D96_3tra_NTv2"
    }
   ]
  },
  {
   "geoTransforms": [
    {
     "wkt": "GEOGTRAN[\"MGI_1901_To_Slovenia_1996_3tra_NTv2\",GEOGCS[\"GCS_MGI_1901\",DATUM[\"D_MGI_1901\",SPHEROID[\"Bessel_1841\",6377397.155,299.1528128]],PRIMEM[\"Greenwich\",0.0],UNIT[\"Degree\",0.0174532925199433]],GEOGCS[\"GCS_Slovenia_1996\",DATUM[\"D_Slovenia_Geodetic_Datum_1996\",SPHEROID[\"GRS_1980\",6378137.0,298.257222101]],PRIMEM[\"Greenwich\",0.0],UNIT[\"Degree\",0.0174532925199433]],METHOD[\"NTv2\"],PARAMETER[\"Dataset_slovenia/SI_D48_D96_GRID\",0.0],OPERATIONACCURACY[0.11]]",
     "transformForward": true,
     "name": "MGI_1901_To_Slovenia_1996_3tra_NTv2"
    }
   ]
  },
  {
   "geoTransforms": [
    {
     "wkt": "GEOGTRAN[\"MGI_1901_To_Slovenia_1996_3tra_NTv2\",GEOGCS[\"GCS_MGI_1901\",DATUM[\"D_MGI_1901\",SPHEROID[\"Bessel_1841\",6377397.155,299.1528128]],PRIMEM[\"Greenwich\",0.0],UNIT[\"Degree\",0.0174532925199433]],GEOGCS[\"GCS_Slovenia_1996\",DATUM[\"D_Slovenia_Geodetic_Datum_1996\",SPHEROID[\"GRS_1980\",6378137.0,298.257222101]],PRIMEM[\"Greenwich\",0.0],UNIT[\"Degree\",0.0174532925199433]],METHOD[\"NTv2\"],PARAMETER[\"Dataset_slovenia/SI_D48_D96_GRID\",0.0],OPERATIONACCURACY[0.11]]",
     "transformForward": false,
     "name": "MGI_1901_To_Slovenia_1996_3tra_NTv2"
    }
   ]
  }
 ],
 "supportsDatumTransformation": true,
 "archivingInfo": {
  "supportsHistoricMoment": false
 },
 "supportsClipping": true,
 "supportsSpatialFilter": true,
 "supportsTimeRelation": true,
 "supportsQueryDataElements": true,
 "maxRecordCount": 2000,
 "maxImageHeight": 4096,
 "maxImageWidth": 4096,
 "supportedExtensions": ""
}
